BEGIN:VCALENDAR
VERSION:2.0
PRODID:-//Kinetic Performance Coaching - ECPv6.15.20//NONSGML v1.0//EN
CALSCALE:GREGORIAN
METHOD:PUBLISH
X-WR-CALNAME:Kinetic Performance Coaching
X-ORIGINAL-URL:http://www.coachjennykay.com
X-WR-CALDESC:Events for Kinetic Performance Coaching
REFRESH-INTERVAL;VALUE=DURATION:PT1H
X-Robots-Tag:noindex
X-PUBLISHED-TTL:PT1H
BEGIN:VTIMEZONE
TZID:America/New_York
BEGIN:DAYLIGHT
TZOFFSETFROM:-0500
TZOFFSETTO:-0400
TZNAME:EDT
DTSTART:20150308T070000
END:DAYLIGHT
BEGIN:STANDARD
TZOFFSETFROM:-0400
TZOFFSETTO:-0500
TZNAME:EST
DTSTART:20151101T060000
END:STANDARD
BEGIN:DAYLIGHT
TZOFFSETFROM:-0500
TZOFFSETTO:-0400
TZNAME:EDT
DTSTART:20160313T070000
END:DAYLIGHT
BEGIN:STANDARD
TZOFFSETFROM:-0400
TZOFFSETTO:-0500
TZNAME:EST
DTSTART:20161106T060000
END:STANDARD
BEGIN:DAYLIGHT
TZOFFSETFROM:-0500
TZOFFSETTO:-0400
TZNAME:EDT
DTSTART:20170312T070000
END:DAYLIGHT
BEGIN:STANDARD
TZOFFSETFROM:-0400
TZOFFSETTO:-0500
TZNAME:EST
DTSTART:20171105T060000
END:STANDARD
END:VTIMEZONE
BEGIN:VEVENT
DTSTART;TZID=America/New_York:20160521T080000
DTEND;TZID=America/New_York:20160521T110000
DTSTAMP:20260423T200630
CREATED:20160318T171042Z
LAST-MODIFIED:20160318T171042Z
UID:286-1463817600-1463828400@www.coachjennykay.com
SUMMARY:SERVE: The Secret of Great Leaders (Part 2)
DESCRIPTION:*THIS IS A PRIVATE\, CLOSED EVENT FOR CHICK-FIL-A BRISTOL’S LEADERSHIP TEAM.*\nIf you are interested in bringing this workshop to your team\, please CLICK HERE. \n \nThe SERVE model was first introduced a decade ago by Mark Miller and Ken Blanchard in the best-selling book\, THE SECRET. Using the SERVE model as a foundation\, this workshop expands on each piece of the model using interactive exercises\, personal assessments\, engaging discussion\, and practical examples. \nJenny K. Brown brings over 15 years of leadership experience in service industries from giants such as Walt Disney World\, Limited Brands\, Dollywood\, and Chick-fil-A\, as well as first-hand experience in growing and developing small\, private businesses. Having both Corporate and private experience\, Jenny has developed practical\, relevant strategies for growing teams and businesses in today’s fast-paced world. \nThe SERVE workshop is a great foundation for new leaders\, and a chance for renewed growth in experienced leaders. Each leader will leave this workshop with a new toolkit for casting vision\, growing and developing a team\, engaging team members\, analyzing business\, and modeling the values of your company. \nShare this:\n				Email a link to a friend (Opens in new window)\n				Email\n			\n				Print (Opens in new window)\n				Print\n			\n				Share on Facebook (Opens in new window)\n				Facebook\n			\n				Share on LinkedIn (Opens in new window)\n				LinkedIn\n			\n				Share on X (Opens in new window)\n				X\n			\n				Share on Pinterest (Opens in new window)\n				Pinterest
URL:http://www.coachjennykay.com/event/serve-the-secret-of-great-leaders-part-2-2/
LOCATION:Chick-fil-A Bristol\, Bristol\, VA\, United States
CATEGORIES:Leadership Development
ATTACH;FMTTYPE=image/jpeg:http://www.coachjennykay.com/wp-content/uploads/2016/03/SERVE-model-diagram.jpg
ORGANIZER;CN="Jenny K. Brown":MAILTO:jenny@coachjennykay.com
END:VEVENT
BEGIN:VEVENT
DTSTART;TZID=America/New_York:20160507T080000
DTEND;TZID=America/New_York:20160507T110000
DTSTAMP:20260423T200630
CREATED:20160318T170402Z
LAST-MODIFIED:20160318T170744Z
UID:283-1462608000-1462618800@www.coachjennykay.com
SUMMARY:SERVE: The Secret of Great Leaders (Part 1)
DESCRIPTION:*THIS IS A PRIVATE\, CLOSED EVENT FOR CHICK-FIL-A BRISTOL’S LEADERSHIP TEAM.*\nIf you are interested in bringing this workshop to your team\, please CLICK HERE. \n \nThe SERVE model was first introduced a decade ago by Mark Miller and Ken Blanchard in the best-selling book\, THE SECRET. Using the SERVE model as a foundation\, this workshop expands on each piece of the model using interactive exercises\, personal assessments\, engaging discussion\, and practical examples. \nJenny K. Brown brings over 15 years of leadership experience in service industries from giants such as Walt Disney World\, Limited Brands\, Dollywood\, and Chick-fil-A\, as well as first-hand experience in growing and developing small\, private businesses. Having both Corporate and private experience\, Jenny has developed practical\, relevant strategies for growing teams and businesses in today’s fast-paced world. \nThe SERVE workshop is a great foundation for new leaders\, and a chance for renewed growth in experienced leaders. Each leader will leave this workshop with a new toolkit for casting vision\, growing and developing a team\, engaging team members\, analyzing business\, and modeling the values of your company. \nShare this:\n				Email a link to a friend (Opens in new window)\n				Email\n			\n				Print (Opens in new window)\n				Print\n			\n				Share on Facebook (Opens in new window)\n				Facebook\n			\n				Share on LinkedIn (Opens in new window)\n				LinkedIn\n			\n				Share on X (Opens in new window)\n				X\n			\n				Share on Pinterest (Opens in new window)\n				Pinterest
URL:http://www.coachjennykay.com/event/serve-the-secret-of-great-leaders-part-1-2/
LOCATION:Chick-fil-A Bristol\, Bristol\, VA\, United States
CATEGORIES:Leadership Development
ATTACH;FMTTYPE=image/jpeg:http://www.coachjennykay.com/wp-content/uploads/2016/03/SERVE-model-diagram.jpg
ORGANIZER;CN="Jenny K. Brown":MAILTO:jenny@coachjennykay.com
END:VEVENT
BEGIN:VEVENT
DTSTART;TZID=America/New_York:20160331T120000
DTEND;TZID=America/New_York:20160331T130000
DTSTAMP:20260423T200630
CREATED:20160318T165825Z
LAST-MODIFIED:20160318T170614Z
UID:280-1459425600-1459429200@www.coachjennykay.com
SUMMARY:Go for the GOAL (Webinar)
DESCRIPTION:We often fail to achieve our goal because of the 3 F’s – Fear of Failure\, Filling a Void with Excess\, and Failure to Create a SMART Action Plan. We will talk through how to work around these obstacles and start winning your life one G.O.A.L. at a time! \n \nShare this:\n				Email a link to a friend (Opens in new window)\n				Email\n			\n				Print (Opens in new window)\n				Print\n			\n				Share on Facebook (Opens in new window)\n				Facebook\n			\n				Share on LinkedIn (Opens in new window)\n				LinkedIn\n			\n				Share on X (Opens in new window)\n				X\n			\n				Share on Pinterest (Opens in new window)\n				Pinterest
URL:http://www.coachjennykay.com/event/go-for-the-goal-webinar/
LOCATION:Online (Webinar)
CATEGORIES:Personal Development,Professional Development
ATTACH;FMTTYPE=image/jpeg:http://www.coachjennykay.com/wp-content/uploads/2016/03/notepad-with-SMART-action-plan.jpg
ORGANIZER;CN="Jenny K. Brown":MAILTO:jenny@coachjennykay.com
END:VEVENT
BEGIN:VEVENT
DTSTART;TZID=America/New_York:20160213T100000
DTEND;TZID=America/New_York:20160213T123000
DTSTAMP:20260423T200630
CREATED:20160116T225112Z
LAST-MODIFIED:20160116T225112Z
UID:230-1455357600-1455366600@www.coachjennykay.com
SUMMARY:COLOR YOUR COMPANION
DESCRIPTION:Having trouble connecting with a loved one? Feel like you just aren’t on the same page? Chances are\, you might be right! We are all motivated by one Core Value in life\, which can cause us to react differently to life\, including how we connect in our various relationships. In this workshop\, we will explore the 4 different personality types\, diving into the Driving Core Motive of each\, the gifts that each personality provides\, and the limitations which prevent successful relationships. We will also talk about all of the possible pairings of these 4 personality types\, and how to better connect with one another. \nWhether you bring a spouse\, significant other\, family member\, or friend\, this workshop is a fantastic way to rekindle your connection with a loved one. \nShare this:\n				Email a link to a friend (Opens in new window)\n				Email\n			\n				Print (Opens in new window)\n				Print\n			\n				Share on Facebook (Opens in new window)\n				Facebook\n			\n				Share on LinkedIn (Opens in new window)\n				LinkedIn\n			\n				Share on X (Opens in new window)\n				X\n			\n				Share on Pinterest (Opens in new window)\n				Pinterest
URL:http://www.coachjennykay.com/event/color-your-companion/
LOCATION:Bristol Public Library\, Goode St\, Bristol\, VA\, United States
CATEGORIES:Color Code Interpersonal Relationships
ORGANIZER;CN="Jenny K. Brown":MAILTO:jenny@coachjennykay.com
END:VEVENT
BEGIN:VEVENT
DTSTART;TZID=America/New_York:20160206T080000
DTEND;TZID=America/New_York:20160206T110000
DTSTAMP:20260423T200630
CREATED:20160116T224317Z
LAST-MODIFIED:20160116T224317Z
UID:229-1454745600-1454756400@www.coachjennykay.com
SUMMARY:SERVE: The Secret of Great Leaders (Part 2)
DESCRIPTION:*THIS IS A PRIVATE\, CLOSED EVENT FOR CHICK-FIL-A BRISTOL’S LEADERSHIP TEAM.*\nIf you are interested in bringing this workshop to your team\, please CLICK HERE. \n \nThe SERVE model was first introduced a decade ago by Mark Miller and Ken Blanchard in the best-selling book\, THE SECRET. Using the SERVE model as a foundation\, this workshop expands on each piece of the model using interactive exercises\, personal assessments\, engaging discussion\, and practical examples. \nJenny K. Brown brings over 15 years of leadership experience in service industries from giants such as Walt Disney World\, Limited Brands\, Dollywood\, and Chick-fil-A\, as well as first-hand experience in growing and developing small\, private businesses. Having both Corporate and private experience\, Jenny has developed practical\, relevant strategies for growing teams and businesses in today’s fast-paced world. \nThe SERVE workshop is a great foundation for new leaders\, and a chance for renewed growth in experienced leaders. Each leader will leave this workshop with a new toolkit for casting vision\, growing and developing a team\, engaging team members\, analyzing business\, and modeling the values of your company. \nShare this:\n				Email a link to a friend (Opens in new window)\n				Email\n			\n				Print (Opens in new window)\n				Print\n			\n				Share on Facebook (Opens in new window)\n				Facebook\n			\n				Share on LinkedIn (Opens in new window)\n				LinkedIn\n			\n				Share on X (Opens in new window)\n				X\n			\n				Share on Pinterest (Opens in new window)\n				Pinterest
URL:http://www.coachjennykay.com/event/serve-the-secret-of-great-leaders-part-2/
LOCATION:Chick-fil-A Bristol\, Bristol\, VA\, United States
CATEGORIES:Leadership Development
ORGANIZER;CN="Jenny K. Brown":MAILTO:jenny@coachjennykay.com
END:VEVENT
BEGIN:VEVENT
DTSTART;TZID=America/New_York:20160130T080000
DTEND;TZID=America/New_York:20160130T110000
DTSTAMP:20260423T200630
CREATED:20160116T224003Z
LAST-MODIFIED:20160116T224040Z
UID:225-1454140800-1454151600@www.coachjennykay.com
SUMMARY:SERVE: The Secret of Great Leaders (Part 1)
DESCRIPTION:*THIS IS A PRIVATE\, CLOSED EVENT FOR CHICK-FIL-A BRISTOL’S LEADERSHIP TEAM.*\nIf you are interested in bringing this workshop to your team\, please CLICK HERE. \n \nThe SERVE model was first introduced a decade ago by Mark Miller and Ken Blanchard in the best-selling book\, THE SECRET. Using the SERVE model as a foundation\, this workshop expands on each piece of the model using interactive exercises\, personal assessments\, engaging discussion\, and practical examples. \nJenny K. Brown brings over 15 years of leadership experience in service industries from giants such as Walt Disney World\, Limited Brands\, Dollywood\, and Chick-fil-A\, as well as first-hand experience in growing and developing small\, private businesses. Having both Corporate and private experience\, Jenny has developed practical\, relevant strategies for growing teams and businesses in today’s fast-paced world. \nThe SERVE workshop is a great foundation for new leaders\, and a chance for renewed growth in experienced leaders. Each leader will leave this workshop with a new toolkit for casting vision\, growing and developing a team\, engaging team members\, analyzing business\, and modeling the values of your company. \nShare this:\n				Email a link to a friend (Opens in new window)\n				Email\n			\n				Print (Opens in new window)\n				Print\n			\n				Share on Facebook (Opens in new window)\n				Facebook\n			\n				Share on LinkedIn (Opens in new window)\n				LinkedIn\n			\n				Share on X (Opens in new window)\n				X\n			\n				Share on Pinterest (Opens in new window)\n				Pinterest
URL:http://www.coachjennykay.com/event/serve-the-secret-of-great-leaders-part-1/
LOCATION:Chick-fil-A Bristol\, Bristol\, VA\, United States
CATEGORIES:Leadership Development
ORGANIZER;CN="Jenny K. Brown":MAILTO:jenny@coachjennykay.com
END:VEVENT
END:VCALENDAR